BEGIN:VCALENDAR
VERSION:2.0
PRODID:-//Tukios.com/
BEGIN:VEVENT
UID:fb96de56-dc12-4c01-8726-a0172ce12930@www.sunsetmc.com
DTSTAMP:20260421T043914Z
DTSTART:20260424T190000Z
DTEND:20260424T230000Z
SUMMARY:Visitation
DESCRIPTION:
URL:https://www.sunsetmc.com/obituaries/mr-erwin-williams
LOCATION: 33558 US Highway 280  Childersburg AL 35044
GEO:33.2667036;-86.3530237
END:VEVENT
END:VCALENDAR