BEGIN:VCALENDAR
VERSION:2.0
PRODID:-//Tukios.com/
BEGIN:VEVENT
UID:0e19b4ef-087c-480f-996f-5bbdda76cd7e@www.sunsetmc.com
DTSTAMP:20260421T044020Z
DTSTART:20260425T170000Z
DTEND:20260425T180000Z
SUMMARY:Funeral Service
DESCRIPTION:
URL:https://www.sunsetmc.com/obituaries/mr-erwin-williams
LOCATION: 33558 US Highway 280  Childersburg AL 35044
GEO:33.2667036;-86.3530237
END:VEVENT
END:VCALENDAR