BEGIN:VCALENDAR
VERSION:2.0
PRODID:-//Tukios.com/
BEGIN:VEVENT
UID:8e0cf62e-f9de-4783-8252-323ea1ff8ea2@www.sunsetmc.com
DTSTAMP:20260421T043832Z
DTSTART:20260425T184500Z
DTEND:20260425T194500Z
SUMMARY:Burial
DESCRIPTION:
URL:https://www.sunsetmc.com/obituaries/mr-erwin-williams
LOCATION:   Sylacauga AL 
GEO:33.160974;-86.25918
END:VEVENT
END:VCALENDAR